BEGIN:VCALENDAR
VERSION:2.0
PRODID:-//ChamberPress//Events//EN
CALSCALE:GREGORIAN
METHOD:PUBLISH
X-WR-CALNAME:MWPC Expert Spotlight
X-WR-TIMEZONE:America/New_York
BEGIN:VTIMEZONE
TZID:America/New_York
BEGIN:DAYLIGHT
TZOFFSETFROM:-0500
TZOFFSETTO:-0400
TZNAME:EDT
DTSTART:19700308T020000
RRULE:FREQ=YEARLY;BYMONTH=3;BYDAY=2SU
END:DAYLIGHT
BEGIN:STANDARD
TZOFFSETFROM:-0400
TZOFFSETTO:-0500
TZNAME:EST
DTSTART:19701101T020000
RRULE:FREQ=YEARLY;BYMONTH=11;BYDAY=1SU
END:STANDARD
END:VTIMEZONE
BEGIN:VEVENT
UID:1109@mwproconnect.com
DTSTAMP:20260422T095221Z
DTSTART;TZID=America/New_York:20260618T130000
DTEND;TZID=America/New_York:20260618T140000
SUMMARY:MWPC Expert Spotlight
DESCRIPTION:Join virtually: https://meet.google.com/qgv-gmxf-jph\\n\\nView full details: https://mwproconnect.com/event/20260618/mwpc-expert-spotlight/
URL:https://mwproconnect.com/event/20260618/mwpc-expert-spotlight/
STATUS:CONFIRMED
END:VEVENT
END:VCALENDAR
